BEGIN:VCALENDAR
VERSION:2.0
PRODID:-//Norman Tischler Klezmer Orchestra - ECPv6.15.20//NONSGML v1.0//EN
CALSCALE:GREGORIAN
METHOD:PUBLISH
X-ORIGINAL-URL:https://clevelandtko.com
X-WR-CALDESC:Events for Norman Tischler Klezmer Orchestra
REFRESH-INTERVAL;VALUE=DURATION:PT1H
X-Robots-Tag:noindex
X-PUBLISHED-TTL:PT1H
BEGIN:VTIMEZONE
TZID:America/New_York
BEGIN:DAYLIGHT
TZOFFSETFROM:-0500
TZOFFSETTO:-0400
TZNAME:EDT
DTSTART:20230312T070000
END:DAYLIGHT
BEGIN:STANDARD
TZOFFSETFROM:-0400
TZOFFSETTO:-0500
TZNAME:EST
DTSTART:20231105T060000
END:STANDARD
BEGIN:DAYLIGHT
TZOFFSETFROM:-0500
TZOFFSETTO:-0400
TZNAME:EDT
DTSTART:20240310T070000
END:DAYLIGHT
BEGIN:STANDARD
TZOFFSETFROM:-0400
TZOFFSETTO:-0500
TZNAME:EST
DTSTART:20241103T060000
END:STANDARD
BEGIN:DAYLIGHT
TZOFFSETFROM:-0500
TZOFFSETTO:-0400
TZNAME:EDT
DTSTART:20250309T070000
END:DAYLIGHT
BEGIN:STANDARD
TZOFFSETFROM:-0400
TZOFFSETTO:-0500
TZNAME:EST
DTSTART:20251102T060000
END:STANDARD
END:VTIMEZONE
BEGIN:VEVENT
DTSTART;TZID=America/New_York:20240726T100000
DTEND;TZID=America/New_York:20240726T120000
DTSTAMP:20260425T134453
CREATED:20240624T145004Z
LAST-MODIFIED:20240720T183620Z
UID:5260-1721988000-1721995200@clevelandtko.com
SUMMARY:Rehearsal Friday 26th July 2024 Cleveland Heights Library 2345 Lee Rd\, Cleveland Heights\, OH 44118
DESCRIPTION:Please bring you Music Stand
URL:https://clevelandtko.com/event/rehearsal-friday-26th-july-2024-clevland-heights-library-2345-lee-rd-cleveland-heights-oh-44118/
LOCATION:2345 Lee Rd.\, Cleveland Heights\, OH 44118
END:VEVENT
BEGIN:VEVENT
DTSTART;TZID=America/New_York:20240728T140000
DTEND;TZID=America/New_York:20240728T160000
DTSTAMP:20260425T134453
CREATED:20240612T122227Z
LAST-MODIFIED:20240720T183819Z
UID:5256-1722175200-1722182400@clevelandtko.com
SUMMARY:Back Yard Concert in Cleveland Heights  Sunday 28th July 2024
DESCRIPTION:Please Bring Chairs and Music Stands \nArrive 12-30pm \nAttire Colorful \nInvite all your frinds and Family.
URL:https://clevelandtko.com/event/back-yard-concert-in-cleveland-heights-sunday-28th-july-2024/
LOCATION:Cleveland Heights Backyard\, 2440 Edgehill Road\, Cleveland Heights\, OH\, 44106\, United States
END:VEVENT
BEGIN:VEVENT
DTSTART;TZID=America/New_York:20240731T150000
DTEND;TZID=America/New_York:20240731T170000
DTSTAMP:20260425T134453
CREATED:20240624T145504Z
LAST-MODIFIED:20240720T184020Z
UID:5263-1722438000-1722445200@clevelandtko.com
SUMMARY:Rehearsal Wednesday 31st July Cleveland Heights Library 2345 Lee Rd\, Cleveland Heights\, OH 44118
DESCRIPTION:Please bring Music Stands
URL:https://clevelandtko.com/event/rehearsal-wedneday-31st-july-clevland-heights-library-2345-lee-rd-cleveland-heights-oh-44118/
LOCATION:2345 Lee Rd.\, Cleveland Heights\, OH 44118
END:VEVENT
END:VCALENDAR