BEGIN:VCALENDAR
VERSION:2.0
PRODID:-//Norman Tischler Klezmer Orchestra - ECPv6.15.20//NONSGML v1.0//EN
CALSCALE:GREGORIAN
METHOD:PUBLISH
X-ORIGINAL-URL:https://clevelandtko.com
X-WR-CALDESC:Events for Norman Tischler Klezmer Orchestra
REFRESH-INTERVAL;VALUE=DURATION:PT1H
X-Robots-Tag:noindex
X-PUBLISHED-TTL:PT1H
BEGIN:VTIMEZONE
TZID:America/New_York
BEGIN:DAYLIGHT
TZOFFSETFROM:-0500
TZOFFSETTO:-0400
TZNAME:EDT
DTSTART:20230312T070000
END:DAYLIGHT
BEGIN:STANDARD
TZOFFSETFROM:-0400
TZOFFSETTO:-0500
TZNAME:EST
DTSTART:20231105T060000
END:STANDARD
BEGIN:DAYLIGHT
TZOFFSETFROM:-0500
TZOFFSETTO:-0400
TZNAME:EDT
DTSTART:20240310T070000
END:DAYLIGHT
BEGIN:STANDARD
TZOFFSETFROM:-0400
TZOFFSETTO:-0500
TZNAME:EST
DTSTART:20241103T060000
END:STANDARD
BEGIN:DAYLIGHT
TZOFFSETFROM:-0500
TZOFFSETTO:-0400
TZNAME:EDT
DTSTART:20250309T070000
END:DAYLIGHT
BEGIN:STANDARD
TZOFFSETFROM:-0400
TZOFFSETTO:-0500
TZNAME:EST
DTSTART:20251102T060000
END:STANDARD
END:VTIMEZONE
BEGIN:VEVENT
DTSTART;TZID=America/New_York:20240602T140000
DTEND;TZID=America/New_York:20240602T150000
DTSTAMP:20260425T152328
CREATED:20240405T195722Z
LAST-MODIFIED:20240602T125038Z
UID:5223-1717336800-1717340400@clevelandtko.com
SUMMARY:CANCELLED DUE TO WEATHER TKO Performance Sunday 2nd June 2024 (Cleveland Hghts Backyard)
DESCRIPTION:2440 Edgehill  Cleveland Hghts 44106 \n12-30 set up. 1-00 Run through.
URL:https://clevelandtko.com/event/tko-performance-sunday-2nd-june-2024-cleveland-hghts-backyard/
LOCATION:OH
END:VEVENT
BEGIN:VEVENT
DTSTART;TZID=America/New_York:20240620T130000
DTEND;TZID=America/New_York:20240620T140000
DTSTAMP:20260425T152328
CREATED:20240409T231511Z
LAST-MODIFIED:20240409T231511Z
UID:5232-1718888400-1718892000@clevelandtko.com
SUMMARY:Seniors Luncheon at Tifereth Israel (Community Room)
DESCRIPTION:
URL:https://clevelandtko.com/event/seniors-luncheon-at-tifereth-israel-community-room/
LOCATION:The Temple-Tifereth Israel\, 26000 Shaker Blvd.\, Beachwood\, 44122\, United States
END:VEVENT
END:VCALENDAR