BEGIN:VCALENDAR
VERSION:2.0
PRODID:-//Norman Tischler Klezmer Orchestra - ECPv6.15.20//NONSGML v1.0//EN
CALSCALE:GREGORIAN
METHOD:PUBLISH
X-WR-CALNAME:Norman Tischler Klezmer Orchestra
X-ORIGINAL-URL:https://clevelandtko.com
X-WR-CALDESC:Events for Norman Tischler Klezmer Orchestra
REFRESH-INTERVAL;VALUE=DURATION:PT1H
X-Robots-Tag:noindex
X-PUBLISHED-TTL:PT1H
BEGIN:VTIMEZONE
TZID:America/New_York
BEGIN:DAYLIGHT
TZOFFSETFROM:-0500
TZOFFSETTO:-0400
TZNAME:EDT
DTSTART:20230312T070000
END:DAYLIGHT
BEGIN:STANDARD
TZOFFSETFROM:-0400
TZOFFSETTO:-0500
TZNAME:EST
DTSTART:20231105T060000
END:STANDARD
BEGIN:DAYLIGHT
TZOFFSETFROM:-0500
TZOFFSETTO:-0400
TZNAME:EDT
DTSTART:20240310T070000
END:DAYLIGHT
BEGIN:STANDARD
TZOFFSETFROM:-0400
TZOFFSETTO:-0500
TZNAME:EST
DTSTART:20241103T060000
END:STANDARD
BEGIN:DAYLIGHT
TZOFFSETFROM:-0500
TZOFFSETTO:-0400
TZNAME:EDT
DTSTART:20250309T070000
END:DAYLIGHT
BEGIN:STANDARD
TZOFFSETFROM:-0400
TZOFFSETTO:-0500
TZNAME:EST
DTSTART:20251102T060000
END:STANDARD
END:VTIMEZONE
BEGIN:VEVENT
DTSTART;TZID=America/New_York:20240504T143000
DTEND;TZID=America/New_York:20240504T153000
DTSTAMP:20260425T165957
CREATED:20240206T160059Z
LAST-MODIFIED:20240405T194657Z
UID:5186-1714833000-1714836600@clevelandtko.com
SUMMARY:TKO:Daughters of Miriam (Formally Montefiore) Performance
DESCRIPTION:TKO will perform on Saturday\, May 4\, at Montefiore\, 1 David Myers Parkway\, Beachwood\, OH 44122.
URL:https://clevelandtko.com/event/tko-montefiore-performance/
LOCATION:Montefiore at Menorah Park\, 1 David Myers Parkway\, Beachwood\, OH\, 44122\, United States
CATEGORIES:Performance
ORGANIZER;CN="TKO":MAILTO:moss@mossstanley.com
END:VEVENT
BEGIN:VEVENT
DTSTART;TZID=America/New_York:20240515T130000
DTEND;TZID=America/New_York:20240515T150000
DTSTAMP:20260425T165957
CREATED:20240405T194259Z
LAST-MODIFIED:20240426T131802Z
UID:5217-1715778000-1715785200@clevelandtko.com
SUMMARY:TKO Rehearsal Wednesday 15th May 2024
DESCRIPTION:Rehearsal in main sanctuary at Tifereth Israel 1-00pm/3-00pm
URL:https://clevelandtko.com/event/tko-rehearsal-tuesday-14th-may-2024/
LOCATION:OH
END:VEVENT
BEGIN:VEVENT
DTSTART;TZID=America/New_York:20240524T150000
DTEND;TZID=America/New_York:20240524T170000
DTSTAMP:20260425T165957
CREATED:20240406T130817Z
LAST-MODIFIED:20240406T130817Z
UID:5230-1716562800-1716570000@clevelandtko.com
SUMMARY:Rehearsal  Friday 24th May 2024 (Tifereth Israel)
DESCRIPTION:In the main Sanctuary
URL:https://clevelandtko.com/event/rehearsal-friday-24th-may-2024-tifereth-israel/
LOCATION:OH
END:VEVENT
BEGIN:VEVENT
DTSTART;TZID=America/New_York:20240529T190000
DTEND;TZID=America/New_York:20240529T200000
DTSTAMP:20260425T165957
CREATED:20240405T195258Z
LAST-MODIFIED:20240405T195258Z
UID:5221-1717009200-1717012800@clevelandtko.com
SUMMARY:TKO Performance Wednesday 29th May 2024
DESCRIPTION:Myers Apartments 27200 Ceder Rd Beachwood Ohio 44112 \n 
URL:https://clevelandtko.com/event/tko-performance-wednesday-29th-may-2024/
LOCATION:OH
END:VEVENT
END:VCALENDAR