BEGIN:VCALENDAR
VERSION:2.0
PRODID:-//Norman Tischler Klezmer Orchestra - ECPv6.15.20//NONSGML v1.0//EN
CALSCALE:GREGORIAN
METHOD:PUBLISH
X-WR-CALNAME:Norman Tischler Klezmer Orchestra
X-ORIGINAL-URL:https://clevelandtko.com
X-WR-CALDESC:Events for Norman Tischler Klezmer Orchestra
REFRESH-INTERVAL;VALUE=DURATION:PT1H
X-Robots-Tag:noindex
X-PUBLISHED-TTL:PT1H
BEGIN:VTIMEZONE
TZID:America/New_York
BEGIN:DAYLIGHT
TZOFFSETFROM:-0500
TZOFFSETTO:-0400
TZNAME:EDT
DTSTART:20250309T070000
END:DAYLIGHT
BEGIN:STANDARD
TZOFFSETFROM:-0400
TZOFFSETTO:-0500
TZNAME:EST
DTSTART:20251102T060000
END:STANDARD
BEGIN:DAYLIGHT
TZOFFSETFROM:-0500
TZOFFSETTO:-0400
TZNAME:EDT
DTSTART:20260308T070000
END:DAYLIGHT
BEGIN:STANDARD
TZOFFSETFROM:-0400
TZOFFSETTO:-0500
TZNAME:EST
DTSTART:20261101T060000
END:STANDARD
BEGIN:DAYLIGHT
TZOFFSETFROM:-0500
TZOFFSETTO:-0400
TZNAME:EDT
DTSTART:20270314T070000
END:DAYLIGHT
BEGIN:STANDARD
TZOFFSETFROM:-0400
TZOFFSETTO:-0500
TZNAME:EST
DTSTART:20271107T060000
END:STANDARD
END:VTIMEZONE
BEGIN:VEVENT
DTSTART;TZID=America/New_York:20260419T123000
DTEND;TZID=America/New_York:20260419T143000
DTSTAMP:20260425T082608
CREATED:20260304T164345Z
LAST-MODIFIED:20260304T164345Z
UID:5744-1776601800-1776609000@clevelandtko.com
SUMMARY:TKO Rehearsal at Congregation Mishkan Or
DESCRIPTION:
URL:https://clevelandtko.com/event/tko-rehearsal-at-congregation-mishkan-or-13/
LOCATION:Congregation Mishkan Or\, 26000 Shaker Blvd\, Beachwood\, OH\, 44122\, United States
CATEGORIES:Rehearsal
END:VEVENT
BEGIN:VEVENT
DTSTART;TZID=America/New_York:20260429T170000
DTEND;TZID=America/New_York:20260429T180000
DTSTAMP:20260425T082608
CREATED:20260304T164443Z
LAST-MODIFIED:20260421T221506Z
UID:5746-1777482000-1777485600@clevelandtko.com
SUMMARY:TKO Rehearsal at Congregation Mishkan Or
DESCRIPTION:
URL:https://clevelandtko.com/event/tko-rehearsal-at-congregation-mishkan-or-14/
LOCATION:Congregation Mishkan Or\, 26000 Shaker Blvd\, Beachwood\, OH\, 44122\, United States
CATEGORIES:Rehearsal
END:VEVENT
BEGIN:VEVENT
DTSTART;TZID=America/New_York:20260628T123000
DTEND;TZID=America/New_York:20260628T143000
DTSTAMP:20260425T082608
CREATED:20260315T185956Z
LAST-MODIFIED:20260315T185956Z
UID:5753-1782649800-1782657000@clevelandtko.com
SUMMARY:TKO Rehearsal at Congregation Mishkan Or
DESCRIPTION:
URL:https://clevelandtko.com/event/tko-rehearsal-at-congregation-mishkan-or-15/
LOCATION:Congregation Mishkan Or\, 26000 Shaker Blvd\, Beachwood\, OH\, 44122\, United States
CATEGORIES:Rehearsal
END:VEVENT
BEGIN:VEVENT
DTSTART;TZID=America/New_York:20260802T140000
DTEND;TZID=America/New_York:20260802T160000
DTSTAMP:20260425T082608
CREATED:20260305T200708Z
LAST-MODIFIED:20260305T200708Z
UID:5749-1785679200-1785686400@clevelandtko.com
SUMMARY:TKO Performance at Cleveland Heights backyard
DESCRIPTION:
URL:https://clevelandtko.com/event/tko-performance-at-cleveland-heights-backyard-2/
LOCATION:Cleveland Heights Backyard\, 2440 Edgehill Road\, Cleveland Heights\, OH\, 44106\, United States
CATEGORIES:Performance
END:VEVENT
BEGIN:VEVENT
DTSTART;TZID=America/New_York:20260803T163000
DTEND;TZID=America/New_York:20260803T193000
DTSTAMP:20260425T082608
CREATED:20260421T222116Z
LAST-MODIFIED:20260424T210805Z
UID:5762-1785774600-1785785400@clevelandtko.com
SUMMARY:TKO (Sextet Ensemble Only) Performance at JCC of Youngstown
DESCRIPTION:They will arrive at 505 Gypsy Lane.\nParking lot is on the side of the building (if facing the building from the street\, then it is the left side of the building).\nOur main entrance faces that parking lot.\nWhen you enter you will check in at the front desk.\nThen\, pass the security desk and go up a half flight of steps (or take the elevator to 1).\nTurn left.\nThe multipurpose room is down the hall on the left.
URL:https://clevelandtko.com/event/tko-sextet-ensemble-only-performance-at-jcc-of-youngstown/
LOCATION:Youngstown JCC Jewish Community Center of Youngstown\, 505 Gypsy Lane\, in the multipurpose room.\, 505 Gypsy Lane\, Youngstown\, OH\, 44504\, United States
CATEGORIES:Performance
END:VEVENT
END:VCALENDAR