BEGIN:VCALENDAR
VERSION:2.0
PRODID:-//Norman Tischler Klezmer Orchestra - ECPv6.15.20//NONSGML v1.0//EN
CALSCALE:GREGORIAN
METHOD:PUBLISH
X-WR-CALNAME:Norman Tischler Klezmer Orchestra
X-ORIGINAL-URL:https://clevelandtko.com
X-WR-CALDESC:Events for Norman Tischler Klezmer Orchestra
REFRESH-INTERVAL;VALUE=DURATION:PT1H
X-Robots-Tag:noindex
X-PUBLISHED-TTL:PT1H
BEGIN:VTIMEZONE
TZID:America/New_York
BEGIN:DAYLIGHT
TZOFFSETFROM:-0500
TZOFFSETTO:-0400
TZNAME:EDT
DTSTART:20240310T070000
END:DAYLIGHT
BEGIN:STANDARD
TZOFFSETFROM:-0400
TZOFFSETTO:-0500
TZNAME:EST
DTSTART:20241103T060000
END:STANDARD
BEGIN:DAYLIGHT
TZOFFSETFROM:-0500
TZOFFSETTO:-0400
TZNAME:EDT
DTSTART:20250309T070000
END:DAYLIGHT
BEGIN:STANDARD
TZOFFSETFROM:-0400
TZOFFSETTO:-0500
TZNAME:EST
DTSTART:20251102T060000
END:STANDARD
BEGIN:DAYLIGHT
TZOFFSETFROM:-0500
TZOFFSETTO:-0400
TZNAME:EDT
DTSTART:20260308T070000
END:DAYLIGHT
BEGIN:STANDARD
TZOFFSETFROM:-0400
TZOFFSETTO:-0500
TZNAME:EST
DTSTART:20261101T060000
END:STANDARD
BEGIN:DAYLIGHT
TZOFFSETFROM:-0500
TZOFFSETTO:-0400
TZNAME:EDT
DTSTART:20270314T070000
END:DAYLIGHT
BEGIN:STANDARD
TZOFFSETFROM:-0400
TZOFFSETTO:-0500
TZNAME:EST
DTSTART:20271107T060000
END:STANDARD
END:VTIMEZONE
BEGIN:VEVENT
DTSTART;TZID=America/New_York:20251102T140000
DTEND;TZID=America/New_York:20251102T150000
DTSTAMP:20260425T082614
CREATED:20250627T155222Z
LAST-MODIFIED:20250803T002323Z
UID:5585-1762092000-1762095600@clevelandtko.com
SUMMARY:TKO Performance at Levy Gardens
DESCRIPTION:
URL:https://clevelandtko.com/event/tko-rehearsal-at-congregation-mishkan-or-7/
LOCATION:Levy Gardens\, 584 Granada Ave.\, Youngstown\, 44505\, United States
CATEGORIES:Performance
END:VEVENT
BEGIN:VEVENT
DTSTART;TZID=America/New_York:20251116T123000
DTEND;TZID=America/New_York:20251116T143000
DTSTAMP:20260425T082614
CREATED:20250627T155331Z
LAST-MODIFIED:20250627T155331Z
UID:5587-1763296200-1763303400@clevelandtko.com
SUMMARY:TKO Rehearsal at Congregation Mishkan Or
DESCRIPTION:
URL:https://clevelandtko.com/event/tko-rehearsal-at-congregation-mishkan-or-8/
LOCATION:Congregation Mishkan Or\, 26000 Shaker Blvd\, Beachwood\, OH\, 44122\, United States
CATEGORIES:Rehearsal
END:VEVENT
BEGIN:VEVENT
DTSTART;TZID=America/New_York:20251130T130000
DTEND;TZID=America/New_York:20251130T150000
DTSTAMP:20260425T082614
CREATED:20251027T171009Z
LAST-MODIFIED:20251027T171009Z
UID:5670-1764507600-1764514800@clevelandtko.com
SUMMARY:TKO Rehearsal at Lee Road Branch of Heights Libraries
DESCRIPTION:
URL:https://clevelandtko.com/event/tko-rehearsal-at-lee-road-branch-of-heights-libraries-3/
LOCATION:Lee Road Branch of Heights Libraries\, 2345 Lee Rd.\, Cleveland Heights\, OH\, 44118\, United States
CATEGORIES:Rehearsal
END:VEVENT
BEGIN:VEVENT
DTSTART;TZID=America/New_York:20251207T150000
DTEND;TZID=America/New_York:20251207T160000
DTSTAMP:20260425T082614
CREATED:20251105T182158Z
LAST-MODIFIED:20251110T234717Z
UID:5688-1765119600-1765123200@clevelandtko.com
SUMMARY:TKO Performance (private) at Eliza at Chagrin Falls (formerly The Weils)
DESCRIPTION:
URL:https://clevelandtko.com/event/tko-rehearsal-location-to-be-announced-7/
LOCATION:Eliza at Chagrin Falls\, 16695 Chillicothe Road\, Chagrin Falls\, OH\, 44023\, United States
CATEGORIES:Performance
END:VEVENT
BEGIN:VEVENT
DTSTART;TZID=America/New_York:20251221T140000
DTEND;TZID=America/New_York:20251221T150000
DTSTAMP:20260425T082614
CREATED:20251027T171131Z
LAST-MODIFIED:20251105T182041Z
UID:5672-1766325600-1766329200@clevelandtko.com
SUMMARY:TKO Performance at Levy Gardens
DESCRIPTION:
URL:https://clevelandtko.com/event/tko-rehearsal-at-lee-road-branch-of-heights-libraries-4/
LOCATION:Levy Gardens\, 584 Granada Ave.\, Youngstown\, 44505\, United States
CATEGORIES:Performance
END:VEVENT
BEGIN:VEVENT
DTSTART;TZID=America/New_York:20251222T190000
DTEND;TZID=America/New_York:20251222T200000
DTSTAMP:20260425T082614
CREATED:20251017T183534Z
LAST-MODIFIED:20251203T181158Z
UID:5667-1766430000-1766433600@clevelandtko.com
SUMMARY:TKO Performance at King David Independent Living (formerly Myers Apartments)
DESCRIPTION:
URL:https://clevelandtko.com/event/tko-performance-private-at-myers-apartments-formerly-r-h-myers/
LOCATION:King David Independent Living (formerly Myers Apartments)\, 27200 Cedar Rd.\, Beachwood\, OH\, 44122\, United States
CATEGORIES:Performance
END:VEVENT
BEGIN:VEVENT
DTSTART;TZID=America/New_York:20260118T130000
DTEND;TZID=America/New_York:20260118T150000
DTSTAMP:20260425T082614
CREATED:20251027T175857Z
LAST-MODIFIED:20251130T215133Z
UID:5682-1768741200-1768748400@clevelandtko.com
SUMMARY:TKO Rehearsal at Lee Road Branch of Heights Libraries
DESCRIPTION:
URL:https://clevelandtko.com/event/tko-rehearsal-location-to-be-announced-5/
LOCATION:Lee Road Branch of Heights Libraries\, 2345 Lee Rd.\, Cleveland Heights\, OH\, 44118\, United States
CATEGORIES:Rehearsal
END:VEVENT
BEGIN:VEVENT
DTSTART;TZID=America/New_York:20260125T123000
DTEND;TZID=America/New_York:20260125T143000
DTSTAMP:20260425T082614
CREATED:20251027T171651Z
LAST-MODIFIED:20260123T200123Z
UID:5674-1769344200-1769351400@clevelandtko.com
SUMMARY:CANCELLED - TKO Rehearsal
DESCRIPTION:
URL:https://clevelandtko.com/event/tko-rehearsal-at-congregation-mishkan-or-9/
LOCATION:Congregation Mishkan Or\, 26000 Shaker Blvd\, Beachwood\, OH\, 44122\, United States
CATEGORIES:Rehearsal
END:VEVENT
BEGIN:VEVENT
DTSTART;TZID=America/New_York:20260208T123000
DTEND;TZID=America/New_York:20260208T143000
DTSTAMP:20260425T082614
CREATED:20251027T171756Z
LAST-MODIFIED:20251027T171756Z
UID:5676-1770553800-1770561000@clevelandtko.com
SUMMARY:TKO Rehearsal at Congregation Mishkan Or
DESCRIPTION:
URL:https://clevelandtko.com/event/tko-rehearsal-at-congregation-mishkan-or-10/
LOCATION:Congregation Mishkan Or\, 26000 Shaker Blvd\, Beachwood\, OH\, 44122\, United States
CATEGORIES:Rehearsal
END:VEVENT
BEGIN:VEVENT
DTSTART;TZID=America/New_York:20260212T120000
DTEND;TZID=America/New_York:20260212T130000
DTSTAMP:20260425T082614
CREATED:20251014T165758Z
LAST-MODIFIED:20260105T193557Z
UID:5657-1770897600-1770901200@clevelandtko.com
SUMMARY:TKO Performance (private) for Holocaust Survivors Luncheon
DESCRIPTION:
URL:https://clevelandtko.com/event/tko-performance-noon-100-holocaust-survivors-luncheon-venue-tba/
LOCATION:Congregation Mishkan Or\, 26000 Shaker Blvd\, Beachwood\, OH\, 44122\, United States
CATEGORIES:Performance
END:VEVENT
BEGIN:VEVENT
DTSTART;TZID=America/New_York:20260222T123000
DTEND;TZID=America/New_York:20260222T143000
DTSTAMP:20260425T082614
CREATED:20251027T171857Z
LAST-MODIFIED:20251027T171857Z
UID:5678-1771763400-1771770600@clevelandtko.com
SUMMARY:TKO Rehearsal at Congregation Mishkan Or
DESCRIPTION:
URL:https://clevelandtko.com/event/tko-rehearsal-at-congregation-mishkan-or-11/
LOCATION:Congregation Mishkan Or\, 26000 Shaker Blvd\, Beachwood\, OH\, 44122\, United States
CATEGORIES:Rehearsal
END:VEVENT
BEGIN:VEVENT
DTSTART;TZID=America/New_York:20260302T180000
DTEND;TZID=America/New_York:20260302T200000
DTSTAMP:20260425T082614
CREATED:20260120T153201Z
LAST-MODIFIED:20260226T201452Z
UID:5721-1772474400-1772481600@clevelandtko.com
SUMMARY:TKO (Septet Ensemble Only) Performance at Temple El Emeth
DESCRIPTION:
URL:https://clevelandtko.com/event/small-ensemble-performance-5-6-pieces-temple-el-emeth-3970-logan-way-youngstown-ohio-44505/
LOCATION:Temple El Emeth\, 3970 Logan Way\, Youngstown\, OH\, 44505\, United States
CATEGORIES:Performance
END:VEVENT
BEGIN:VEVENT
DTSTART;TZID=America/New_York:20260308T123000
DTEND;TZID=America/New_York:20260308T143000
DTSTAMP:20260425T082614
CREATED:20251027T171947Z
LAST-MODIFIED:20251027T172204Z
UID:5680-1772973000-1772980200@clevelandtko.com
SUMMARY:TKO Rehearsal at Congregation Mishkan Or
DESCRIPTION:
URL:https://clevelandtko.com/event/tko-rehearsal-at-congregation-mishkan-or-12/
LOCATION:Congregation Mishkan Or\, 26000 Shaker Blvd\, Beachwood\, OH\, 44122\, United States
CATEGORIES:Rehearsal
END:VEVENT
BEGIN:VEVENT
DTSTART;TZID=America/New_York:20260323T180000
DTEND;TZID=America/New_York:20260323T200000
DTSTAMP:20260425T082614
CREATED:20251027T175939Z
LAST-MODIFIED:20260323T211804Z
UID:5684-1774288800-1774296000@clevelandtko.com
SUMMARY:TKO Rehearsal at Congregation Mishkan Or
DESCRIPTION:
URL:https://clevelandtko.com/event/tko-rehearsal-location-to-be-announced-6/
LOCATION:Congregation Mishkan Or\, 26000 Shaker Blvd\, Beachwood\, OH\, 44122\, United States
CATEGORIES:Rehearsal
END:VEVENT
BEGIN:VEVENT
DTSTART;TZID=America/New_York:20260328T190000
DTEND;TZID=America/New_York:20260328T200000
DTSTAMP:20260425T082614
CREATED:20251105T215311Z
LAST-MODIFIED:20251105T215553Z
UID:5691-1774724400-1774728000@clevelandtko.com
SUMMARY:TKO Performance at Heights Arts
DESCRIPTION:
URL:https://clevelandtko.com/event/tko-performance-at-heights-arts/
LOCATION:Heights Arts\, 2175 Lee Road\, Cleveland Heights\, OH\, 44118\, United States
CATEGORIES:Performance
END:VEVENT
BEGIN:VEVENT
DTSTART;TZID=America/New_York:20260330T150000
DTEND;TZID=America/New_York:20260330T160000
DTSTAMP:20260425T082614
CREATED:20251118T225703Z
LAST-MODIFIED:20251118T225827Z
UID:5706-1774882800-1774886400@clevelandtko.com
SUMMARY:TKO Performance (private) at South Franklin Circle
DESCRIPTION:
URL:https://clevelandtko.com/event/tko-performance-private-at-south-franklin-circle-a-judson-senior-living-community/
LOCATION:South Franklin Circle\, a Judson Senior Living Community\, 16600 Warren Court\, Chagrin Falls\, OH\, 44023\, United States
CATEGORIES:Performance
END:VEVENT
BEGIN:VEVENT
DTSTART;TZID=America/New_York:20260407T190000
DTEND;TZID=America/New_York:20260407T200000
DTSTAMP:20260425T082614
CREATED:20251107T170215Z
LAST-MODIFIED:20251203T181128Z
UID:5697-1775588400-1775592000@clevelandtko.com
SUMMARY:TKO Performance at King David Independent Living (formerly Myers Apartments)
DESCRIPTION:
URL:https://clevelandtko.com/event/tko-performance-private-at-myers-apartments/
LOCATION:King David Independent Living (formerly Myers Apartments)\, 27200 Cedar Rd.\, Beachwood\, OH\, 44122\, United States
CATEGORIES:Performance
END:VEVENT
BEGIN:VEVENT
DTSTART;TZID=America/New_York:20260409T130000
DTEND;TZID=America/New_York:20260409T140000
DTSTAMP:20260425T082614
CREATED:20250901T133436Z
LAST-MODIFIED:20251107T170533Z
UID:5641-1775739600-1775743200@clevelandtko.com
SUMMARY:TKO Performance for Beachwood Elderclass
DESCRIPTION:
URL:https://clevelandtko.com/event/performance-elderclass-beacwood-high-school-25100-fairmount-blvd-beachwood-oh-44122-thursday-9th-april-2026-1-00pm-2-00pm/
LOCATION:Beachwood High School\, 25100 Fairmount Blvd.\, Beachwood\, OH\, 44122\, United States
CATEGORIES:Performance
END:VEVENT
BEGIN:VEVENT
DTSTART;TZID=America/New_York:20260411T150000
DTEND;TZID=America/New_York:20260411T160000
DTSTAMP:20260425T082614
CREATED:20260219T194110Z
LAST-MODIFIED:20260307T204031Z
UID:5736-1775919600-1775923200@clevelandtko.com
SUMMARY:TKO Performance (private) at Eliza at Chagrin Falls (formerly The Weils)
DESCRIPTION:
URL:https://clevelandtko.com/event/tko-performance-eliza-of-chagrin-16695-chillicothe-rd-chagrin-falls-oh-44023/
LOCATION:Eliza at Chagrin Falls\, 16695 Chillicothe Road\, Chagrin Falls\, OH\, 44023\, United States
CATEGORIES:Performance
END:VEVENT
BEGIN:VEVENT
DTSTART;TZID=America/New_York:20260419T123000
DTEND;TZID=America/New_York:20260419T143000
DTSTAMP:20260425T082614
CREATED:20260304T164345Z
LAST-MODIFIED:20260304T164345Z
UID:5744-1776601800-1776609000@clevelandtko.com
SUMMARY:TKO Rehearsal at Congregation Mishkan Or
DESCRIPTION:
URL:https://clevelandtko.com/event/tko-rehearsal-at-congregation-mishkan-or-13/
LOCATION:Congregation Mishkan Or\, 26000 Shaker Blvd\, Beachwood\, OH\, 44122\, United States
CATEGORIES:Rehearsal
END:VEVENT
BEGIN:VEVENT
DTSTART;TZID=America/New_York:20260429T170000
DTEND;TZID=America/New_York:20260429T180000
DTSTAMP:20260425T082614
CREATED:20260304T164443Z
LAST-MODIFIED:20260421T221506Z
UID:5746-1777482000-1777485600@clevelandtko.com
SUMMARY:TKO Rehearsal at Congregation Mishkan Or
DESCRIPTION:
URL:https://clevelandtko.com/event/tko-rehearsal-at-congregation-mishkan-or-14/
LOCATION:Congregation Mishkan Or\, 26000 Shaker Blvd\, Beachwood\, OH\, 44122\, United States
CATEGORIES:Rehearsal
END:VEVENT
BEGIN:VEVENT
DTSTART;TZID=America/New_York:20260628T123000
DTEND;TZID=America/New_York:20260628T143000
DTSTAMP:20260425T082614
CREATED:20260315T185956Z
LAST-MODIFIED:20260315T185956Z
UID:5753-1782649800-1782657000@clevelandtko.com
SUMMARY:TKO Rehearsal at Congregation Mishkan Or
DESCRIPTION:
URL:https://clevelandtko.com/event/tko-rehearsal-at-congregation-mishkan-or-15/
LOCATION:Congregation Mishkan Or\, 26000 Shaker Blvd\, Beachwood\, OH\, 44122\, United States
CATEGORIES:Rehearsal
END:VEVENT
BEGIN:VEVENT
DTSTART;TZID=America/New_York:20260802T140000
DTEND;TZID=America/New_York:20260802T160000
DTSTAMP:20260425T082614
CREATED:20260305T200708Z
LAST-MODIFIED:20260305T200708Z
UID:5749-1785679200-1785686400@clevelandtko.com
SUMMARY:TKO Performance at Cleveland Heights backyard
DESCRIPTION:
URL:https://clevelandtko.com/event/tko-performance-at-cleveland-heights-backyard-2/
LOCATION:Cleveland Heights Backyard\, 2440 Edgehill Road\, Cleveland Heights\, OH\, 44106\, United States
CATEGORIES:Performance
END:VEVENT
BEGIN:VEVENT
DTSTART;TZID=America/New_York:20260803T163000
DTEND;TZID=America/New_York:20260803T193000
DTSTAMP:20260425T082614
CREATED:20260421T222116Z
LAST-MODIFIED:20260424T210805Z
UID:5762-1785774600-1785785400@clevelandtko.com
SUMMARY:TKO (Sextet Ensemble Only) Performance at JCC of Youngstown
DESCRIPTION:They will arrive at 505 Gypsy Lane.\nParking lot is on the side of the building (if facing the building from the street\, then it is the left side of the building).\nOur main entrance faces that parking lot.\nWhen you enter you will check in at the front desk.\nThen\, pass the security desk and go up a half flight of steps (or take the elevator to 1).\nTurn left.\nThe multipurpose room is down the hall on the left.
URL:https://clevelandtko.com/event/tko-sextet-ensemble-only-performance-at-jcc-of-youngstown/
LOCATION:Youngstown JCC Jewish Community Center of Youngstown\, 505 Gypsy Lane\, in the multipurpose room.\, 505 Gypsy Lane\, Youngstown\, OH\, 44504\, United States
CATEGORIES:Performance
END:VEVENT
END:VCALENDAR