BEGIN:VCALENDAR
VERSION:2.0
PRODID:-//Norman Tischler Klezmer Orchestra - ECPv6.15.20//NONSGML v1.0//EN
CALSCALE:GREGORIAN
METHOD:PUBLISH
X-WR-CALNAME:Norman Tischler Klezmer Orchestra
X-ORIGINAL-URL:https://clevelandtko.com
X-WR-CALDESC:Events for Norman Tischler Klezmer Orchestra
REFRESH-INTERVAL;VALUE=DURATION:PT1H
X-Robots-Tag:noindex
X-PUBLISHED-TTL:PT1H
BEGIN:VTIMEZONE
TZID:America/New_York
BEGIN:DAYLIGHT
TZOFFSETFROM:-0500
TZOFFSETTO:-0400
TZNAME:EDT
DTSTART:20220313T070000
END:DAYLIGHT
BEGIN:STANDARD
TZOFFSETFROM:-0400
TZOFFSETTO:-0500
TZNAME:EST
DTSTART:20221106T060000
END:STANDARD
BEGIN:DAYLIGHT
TZOFFSETFROM:-0500
TZOFFSETTO:-0400
TZNAME:EDT
DTSTART:20230312T070000
END:DAYLIGHT
BEGIN:STANDARD
TZOFFSETFROM:-0400
TZOFFSETTO:-0500
TZNAME:EST
DTSTART:20231105T060000
END:STANDARD
BEGIN:DAYLIGHT
TZOFFSETFROM:-0500
TZOFFSETTO:-0400
TZNAME:EDT
DTSTART:20240310T070000
END:DAYLIGHT
BEGIN:STANDARD
TZOFFSETFROM:-0400
TZOFFSETTO:-0500
TZNAME:EST
DTSTART:20241103T060000
END:STANDARD
BEGIN:DAYLIGHT
TZOFFSETFROM:-0500
TZOFFSETTO:-0400
TZNAME:EDT
DTSTART:20250309T070000
END:DAYLIGHT
BEGIN:STANDARD
TZOFFSETFROM:-0400
TZOFFSETTO:-0500
TZNAME:EST
DTSTART:20251102T060000
END:STANDARD
BEGIN:DAYLIGHT
TZOFFSETFROM:-0500
TZOFFSETTO:-0400
TZNAME:EDT
DTSTART:20260308T070000
END:DAYLIGHT
BEGIN:STANDARD
TZOFFSETFROM:-0400
TZOFFSETTO:-0500
TZNAME:EST
DTSTART:20261101T060000
END:STANDARD
END:VTIMEZONE
BEGIN:VEVENT
DTSTART;TZID=America/New_York:20251005T130000
DTEND;TZID=America/New_York:20251005T150000
DTSTAMP:20260424T094239
CREATED:20250225T194411Z
LAST-MODIFIED:20250926T195306Z
UID:5469-1759669200-1759676400@clevelandtko.com
SUMMARY:TKO Rehearsal at Congregation Mishkan Or
DESCRIPTION:
URL:https://clevelandtko.com/event/perfomance-at-the-music-bos-supper-club-sunday-bruncu-noon-1-30pm/
LOCATION:Congregation Mishkan Or\, 26000 Shaker Blvd\, Beachwood\, OH\, 44122\, United States
CATEGORIES:Rehearsal
END:VEVENT
BEGIN:VEVENT
DTSTART;TZID=America/New_York:20250921T143000
DTEND;TZID=America/New_York:20250921T163000
DTSTAMP:20260424T094239
CREATED:20250627T154759Z
LAST-MODIFIED:20250831T230843Z
UID:5583-1758465000-1758472200@clevelandtko.com
SUMMARY:TKO Rehearsal at Congregation Mishkan Or
DESCRIPTION:
URL:https://clevelandtko.com/event/tko-rehearsal-at-congregation-mishkan-or-6/
LOCATION:Congregation Mishkan Or\, 26000 Shaker Blvd\, Beachwood\, OH\, 44122\, United States
CATEGORIES:Rehearsal
END:VEVENT
BEGIN:VEVENT
DTSTART;TZID=America/New_York:20250915T160000
DTEND;TZID=America/New_York:20250915T180000
DTSTAMP:20260424T094239
CREATED:20250627T160900Z
LAST-MODIFIED:20250831T231729Z
UID:5589-1757952000-1757959200@clevelandtko.com
SUMMARY:TKO Rehearsal at Lee Road Branch of Heights Libraries
DESCRIPTION:
URL:https://clevelandtko.com/event/tko-rehearsal-location-to-be-announced-3/
LOCATION:Lee Road Branch of Heights Libraries\, 2345 Lee Rd.\, Cleveland Heights\, OH\, 44118\, United States
CATEGORIES:Rehearsal
END:VEVENT
BEGIN:VEVENT
DTSTART;TZID=America/New_York:20250907T130000
DTEND;TZID=America/New_York:20250907T150000
DTSTAMP:20260424T094239
CREATED:20250813T203937Z
LAST-MODIFIED:20251017T170530Z
UID:5634-1757250000-1757257200@clevelandtko.com
SUMMARY:TKO Rehearsal at Congregation Mishkan Or
DESCRIPTION:
URL:https://clevelandtko.com/event/rehearsal-at-mishkan-or-sunday-7th-september-2025-main-sanctuary-100pm-00pm/
LOCATION:Congregation Mishkan Or\, 26000 Shaker Blvd\, Beachwood\, OH\, 44122\, United States
CATEGORIES:Rehearsal
END:VEVENT
BEGIN:VEVENT
DTSTART;TZID=America/New_York:20250727T133000
DTEND;TZID=America/New_York:20250727T153000
DTSTAMP:20260424T094239
CREATED:20250606T203409Z
LAST-MODIFIED:20250618T210738Z
UID:5553-1753623000-1753630200@clevelandtko.com
SUMMARY:TKO Rehearsal at Lee Road Branch of Heights Libraries
DESCRIPTION:
URL:https://clevelandtko.com/event/tko-rehearsal-location-to-be-announced-2/
LOCATION:Lee Road Branch of Heights Libraries\, 2345 Lee Rd.\, Cleveland Heights\, OH\, 44118\, United States
CATEGORIES:Rehearsal
END:VEVENT
BEGIN:VEVENT
DTSTART;TZID=America/New_York:20250622T140000
DTEND;TZID=America/New_York:20250622T160000
DTSTAMP:20260424T094239
CREATED:20250611T140824Z
LAST-MODIFIED:20250612T172001Z
UID:5562-1750600800-1750608000@clevelandtko.com
SUMMARY:TKO Rehearsal  at 2941 Winthrop Rd.\, Shaker Heights\, OH 44120
DESCRIPTION:
URL:https://clevelandtko.com/event/rehearsal-tko-sunday-22nd-june-2025-2-00-4-00pm-cleveland-heights-library-2345-lee-rd-cleveland-heights-oh-44118/
LOCATION:2941 Winthrop Rd.\, Shaker Heights\, OH 44120
CATEGORIES:Rehearsal
END:VEVENT
BEGIN:VEVENT
DTSTART;TZID=America/New_York:20250602T180000
DTEND;TZID=America/New_York:20250602T200000
DTSTAMP:20260424T094239
CREATED:20250513T151722Z
LAST-MODIFIED:20250513T151722Z
UID:5531-1748887200-1748894400@clevelandtko.com
SUMMARY:TKO Rehearsal at Lee Road Branch of Heights Libraries
DESCRIPTION:
URL:https://clevelandtko.com/event/tko-rehearsal-at-lee-road-branch-of-heights-libraries-2/
LOCATION:Lee Road Branch of Heights Libraries\, 2345 Lee Rd.\, Cleveland Heights\, OH\, 44118\, United States
CATEGORIES:Rehearsal
END:VEVENT
BEGIN:VEVENT
DTSTART;TZID=America/New_York:20250512T180000
DTEND;TZID=America/New_York:20250512T200000
DTSTAMP:20260424T094239
CREATED:20250411T211308Z
LAST-MODIFIED:20250419T200232Z
UID:5523-1747072800-1747080000@clevelandtko.com
SUMMARY:TKO Rehearsal at Congregation Mishkan Or
DESCRIPTION:
URL:https://clevelandtko.com/event/tko-rehearsal-location-to-be-announced/
LOCATION:Congregation Mishkan Or\, 26000 Shaker Blvd\, Beachwood\, OH\, 44122\, United States
CATEGORIES:Rehearsal
END:VEVENT
BEGIN:VEVENT
DTSTART;TZID=America/New_York:20250413T133000
DTEND;TZID=America/New_York:20250413T153000
DTSTAMP:20260424T094239
CREATED:20250303T160216Z
LAST-MODIFIED:20250303T160216Z
UID:5489-1744551000-1744558200@clevelandtko.com
SUMMARY:TKO Rehearsal at Lee Road Branch of Heights Libraries
DESCRIPTION:
URL:https://clevelandtko.com/event/tko-rehearsal-at-lee-road-branch-of-heights-libraries/
LOCATION:Lee Road Branch of Heights Libraries\, 2345 Lee Rd.\, Cleveland Heights\, OH\, 44118\, United States
CATEGORIES:Rehearsal
END:VEVENT
BEGIN:VEVENT
DTSTART;TZID=America/New_York:20250316T130000
DTEND;TZID=America/New_York:20250316T150000
DTSTAMP:20260424T094239
CREATED:20241226T200335Z
LAST-MODIFIED:20250313T201524Z
UID:5437-1742130000-1742137200@clevelandtko.com
SUMMARY:TKO Rehearsal at Lee Road Branch of Heights Libraries
DESCRIPTION:
URL:https://clevelandtko.com/event/tko-rehearsal-time-and-location-to-be-announced/
LOCATION:Lee Road Branch of Heights Libraries\, 2345 Lee Rd.\, Cleveland Heights\, OH\, 44118\, United States
CATEGORIES:Rehearsal
END:VEVENT
BEGIN:VEVENT
DTSTART;TZID=America/New_York:20250309T124500
DTEND;TZID=America/New_York:20250309T143000
DTSTAMP:20260424T094239
CREATED:20241221T211716Z
LAST-MODIFIED:20250306T182026Z
UID:5425-1741524300-1741530600@clevelandtko.com
SUMMARY:TKO Rehearsal at Congregation Mishkan Or
DESCRIPTION:
URL:https://clevelandtko.com/event/tko-rehearsal-at-congregation-mishkan-or-4/
LOCATION:Congregation Mishkan Or\, 26000 Shaker Blvd\, Beachwood\, OH\, 44122\, United States
CATEGORIES:Rehearsal
END:VEVENT
BEGIN:VEVENT
DTSTART;TZID=America/New_York:20250223T124500
DTEND;TZID=America/New_York:20250223T144500
DTSTAMP:20260424T094239
CREATED:20241221T211552Z
LAST-MODIFIED:20250124T004428Z
UID:5423-1740314700-1740321900@clevelandtko.com
SUMMARY:TKO Rehearsal at Congregation Mishkan Or
DESCRIPTION:
URL:https://clevelandtko.com/event/tko-rehearsal-at-congregation-mishkan-or-3/
LOCATION:Congregation Mishkan Or\, 26000 Shaker Blvd\, Beachwood\, OH\, 44122\, United States
CATEGORIES:Rehearsal
END:VEVENT
BEGIN:VEVENT
DTSTART;TZID=America/New_York:20250202T124500
DTEND;TZID=America/New_York:20250202T144500
DTSTAMP:20260424T094239
CREATED:20241221T211418Z
LAST-MODIFIED:20250124T004520Z
UID:5421-1738500300-1738507500@clevelandtko.com
SUMMARY:TKO Rehearsal at Congregation Mishkan Or
DESCRIPTION:
URL:https://clevelandtko.com/event/tko-rehearsal-at-congregation-mishkan-or-2/
LOCATION:Congregation Mishkan Or\, 26000 Shaker Blvd\, Beachwood\, OH\, 44122\, United States
CATEGORIES:Rehearsal
END:VEVENT
BEGIN:VEVENT
DTSTART;TZID=America/New_York:20250126T124500
DTEND;TZID=America/New_York:20250126T144500
DTSTAMP:20260424T094239
CREATED:20241221T211240Z
LAST-MODIFIED:20250124T004538Z
UID:5419-1737895500-1737902700@clevelandtko.com
SUMMARY:TKO Rehearsal at Congregation Mishkan Or
DESCRIPTION:
URL:https://clevelandtko.com/event/tko-rehearsal-at-congregation-mishkan-or/
LOCATION:Congregation Mishkan Or\, 26000 Shaker Blvd\, Beachwood\, OH\, 44122\, United States
CATEGORIES:Rehearsal
END:VEVENT
BEGIN:VEVENT
DTSTART;TZID=America/New_York:20241229T143000
DTEND;TZID=America/New_York:20241229T163000
DTSTAMP:20260424T094239
CREATED:20241113T003437Z
LAST-MODIFIED:20241220T205830Z
UID:5352-1735482600-1735489800@clevelandtko.com
SUMMARY:TKO Rehearsal at Lee Road Branch of Heights Libraries
DESCRIPTION:
URL:https://clevelandtko.com/event/rehearsal-sunday-200pm-400pm-sunday-december-29-2024-beachwood-library-26000-shaker-blvd-44122-city-beachwood-state-oh-44122/
LOCATION:Lee Road Branch of Heights Libraries\, 2345 Lee Rd.\, Cleveland Heights\, OH\, 44118\, United States
CATEGORIES:Rehearsal
END:VEVENT
BEGIN:VEVENT
DTSTART;TZID=America/New_York:20241201T140000
DTEND;TZID=America/New_York:20241201T160000
DTSTAMP:20260424T094239
CREATED:20241031T174727Z
LAST-MODIFIED:20241114T233904Z
UID:5329-1733061600-1733068800@clevelandtko.com
SUMMARY:TKO Rehearsal at Lee Road Branch of Heights Libraries
DESCRIPTION:
URL:https://clevelandtko.com/event/rehearsal-at-the-cleveland-hghts-library-2345-lee-road-cleveland-heights-ohio-44118/
LOCATION:Lee Road Branch of Heights Libraries\, 2345 Lee Rd.\, Cleveland Heights\, OH\, 44118\, United States
CATEGORIES:Rehearsal
END:VEVENT
BEGIN:VEVENT
DTSTART;TZID=America/New_York:20241124T124500
DTEND;TZID=America/New_York:20241124T144500
DTSTAMP:20260424T094239
CREATED:20241009T121209Z
LAST-MODIFIED:20241124T152252Z
UID:5313-1732452300-1732459500@clevelandtko.com
SUMMARY:CANCELLED - TKO Rehearsal at Congregation Mishkan Or
DESCRIPTION:
URL:https://clevelandtko.com/event/rehearsal-at-congregation-mishkan-or-26000-shaker-blvd-beachwood-oh-44122-4/
LOCATION:Congregation Mishkan Or\, 26000 Shaker Blvd\, Beachwood\, OH\, 44122\, United States
CATEGORIES:Rehearsal
END:VEVENT
BEGIN:VEVENT
DTSTART;TZID=America/New_York:20240428T110000
DTEND;TZID=America/New_York:20240428T130000
DTSTAMP:20260424T094239
CREATED:20240225T153709Z
LAST-MODIFIED:20240425T143429Z
UID:5204-1714302000-1714309200@clevelandtko.com
SUMMARY:TKO Rehearsal April 28
DESCRIPTION:TKO will rehearse on April 28th at 11am at in the Main Sanctuary at The Temple Tifereth\, 26000 Shaker Blvd\, Beachwood\, OH 44122.
URL:https://clevelandtko.com/event/tko-rehearsal-april-21/
LOCATION:OH
CATEGORIES:Rehearsal
END:VEVENT
BEGIN:VEVENT
DTSTART;TZID=America/New_York:20240414T130000
DTEND;TZID=America/New_York:20240414T150000
DTSTAMP:20260424T094239
CREATED:20240225T153539Z
LAST-MODIFIED:20240405T200540Z
UID:5202-1713099600-1713106800@clevelandtko.com
SUMMARY:TKO Rehearsal on Sunday 14th April 2024
DESCRIPTION:TKO will rehearse on April 14 at 1 pm at in the Main Sanctuary at The Temple Tifereth\, 26000 Shaker Blvd\, Beachwood\, OH 44122.
URL:https://clevelandtko.com/event/tko-rehearsal-on-april-14/
LOCATION:OH
CATEGORIES:Rehearsal
END:VEVENT
BEGIN:VEVENT
DTSTART;TZID=America/New_York:20240225T133000
DTEND;TZID=America/New_York:20240225T153000
DTSTAMP:20260424T094239
CREATED:20240110T182117Z
LAST-MODIFIED:20240225T151300Z
UID:5171-1708867800-1708875000@clevelandtko.com
SUMMARY:Feb 25 Rehearsal at The Temple-Tifereth Israel
DESCRIPTION:TKO Rehearsal on February 25 will start at 1:30 pm at The Temple-Tifereth Israel\, 26000 Shaker Blvd\, Beachwood\, OH 44122
URL:https://clevelandtko.com/event/tko-rehearsal-at-cleveland-heights-public-library/
LOCATION:The Temple-Tifereth Israel\, 26000 Shaker Blvd.\, Beachwood\, 44122\, United States
CATEGORIES:Rehearsal
ORGANIZER;CN="TKO":MAILTO:moss@mossstanley.com
END:VEVENT
BEGIN:VEVENT
DTSTART;TZID=America/New_York:20240211T130000
DTEND;TZID=America/New_York:20240211T150000
DTSTAMP:20260424T094239
CREATED:20240110T181927Z
LAST-MODIFIED:20240206T151855Z
UID:5169-1707656400-1707663600@clevelandtko.com
SUMMARY:Feb 11 Rehearsal at The Temple-Tifereth Israel
DESCRIPTION:TKO Rehearsal on February 11 will run from 2 to 4 pm in the Main Sanctuary at The Temple-Tifereth Israel\, 26000 Shaker Blvd\, Beachwood\, OH 44122.
URL:https://clevelandtko.com/event/feb-11-rehearsal-at-the-temple-tifereth-israel/
LOCATION:The Temple-Tifereth Israel\, 26000 Shaker Blvd.\, Beachwood\, 44122\, United States
CATEGORIES:Rehearsal
END:VEVENT
BEGIN:VEVENT
DTSTART;TZID=America/New_York:20240121T130000
DTEND;TZID=America/New_York:20240121T150000
DTSTAMP:20260424T094239
CREATED:20231212T182719Z
LAST-MODIFIED:20240107T133639Z
UID:5165-1705842000-1705849200@clevelandtko.com
SUMMARY:TKO Rehearsal
DESCRIPTION:TKO will be rehearsing at The Temple-Tifereth Israel\, 26000 Shaker Blvd\, Beachwood\, OH 44122.
URL:https://clevelandtko.com/event/tko-rehearsal-7/
LOCATION:OH
CATEGORIES:Rehearsal
END:VEVENT
BEGIN:VEVENT
DTSTART;TZID=America/New_York:20231210T130000
DTEND;TZID=America/New_York:20231210T143000
DTSTAMP:20260424T094239
CREATED:20231019T113921Z
LAST-MODIFIED:20231019T114129Z
UID:5145-1702213200-1702218600@clevelandtko.com
SUMMARY:TKO Rehearsal
DESCRIPTION:TKO will be rehearsing at The Temple-Tifereth Israel\, 26000 Shaker Blvd\, Beachwood\, OH 44122.
URL:https://clevelandtko.com/event/tko-rehearsal-6/
LOCATION:The Temple-Tifereth Israel\, 26000 Shaker Blvd.\, Beachwood\, 44122\, United States
CATEGORIES:Rehearsal
END:VEVENT
BEGIN:VEVENT
DTSTART;TZID=America/New_York:20231203T133000
DTEND;TZID=America/New_York:20231203T150000
DTSTAMP:20260424T094239
CREATED:20231024T132612Z
LAST-MODIFIED:20231102T175233Z
UID:5152-1701610200-1701615600@clevelandtko.com
SUMMARY:TKO Chanukah Program Rehearsal
DESCRIPTION:TKO will rehearse in the Mercer Room at the Shaker Heights Public Library between 1:00 pm (when library doors open) and 3:00 pm in preparation for the December 5 Chanukah concert.
URL:https://clevelandtko.com/event/tko-chanukah-program-rehearsal/
LOCATION:Shaker Heights Public Library\, 16500 Van Aken Blvd.\, Shaker Heights\, OH\, 44122\, United States
CATEGORIES:Rehearsal
ORGANIZER;CN="TKO":MAILTO:moss@mossstanley.com
END:VEVENT
BEGIN:VEVENT
DTSTART;TZID=America/New_York:20231105T130000
DTEND;TZID=America/New_York:20231105T143000
DTSTAMP:20260424T094239
CREATED:20231019T113719Z
LAST-MODIFIED:20231019T113719Z
UID:5143-1699189200-1699194600@clevelandtko.com
SUMMARY:TKO Rehearsal
DESCRIPTION:TKO will be rehearsing at The Temple-Tifereth Israel\, 26000 Shaker Blvd\, Beachwood\, OH 44122.
URL:https://clevelandtko.com/event/tko-rehearsal-5/
LOCATION:The Temple-Tifereth Israel\, 26000 Shaker Blvd.\, Beachwood\, 44122\, United States
CATEGORIES:Rehearsal
END:VEVENT
BEGIN:VEVENT
DTSTART;TZID=America/New_York:20231022T010000
DTEND;TZID=America/New_York:20231022T143000
DTSTAMP:20260424T094239
CREATED:20230912T144922Z
LAST-MODIFIED:20230912T144922Z
UID:5124-1697936400-1697985000@clevelandtko.com
SUMMARY:TKO Rehearsal
DESCRIPTION:TKO will be rehearsing at The Temple-Tifereth Israel\, 26000 Shaker Blvd\, Beachwood\, OH 44122 in preparation for the October 26 concert at the Beachwood Elder Class at Beachwood High School
URL:https://clevelandtko.com/event/tko-rehearsal-4/
LOCATION:The Temple-Tifereth Israel\, 26000 Shaker Blvd.\, Beachwood\, 44122\, United States
CATEGORIES:Rehearsal
ORGANIZER;CN="TKO":MAILTO:moss@mossstanley.com
END:VEVENT
BEGIN:VEVENT
DTSTART;TZID=America/New_York:20231015T130000
DTEND;TZID=America/New_York:20231015T143000
DTSTAMP:20260424T094239
CREATED:20230912T144709Z
LAST-MODIFIED:20230912T145011Z
UID:5122-1697374800-1697380200@clevelandtko.com
SUMMARY:TKO Rehearsal
DESCRIPTION:TKO will be rehearsing at The Temple-Tifereth Israel\, 26000 Shaker Blvd\, Beachwood\, OH 44122 in preparation for the October 26 concert at the Beachwood Elder Class at Beachwood High School
URL:https://clevelandtko.com/event/tko-rehearsal-3/
LOCATION:The Temple-Tifereth Israel\, 26000 Shaker Blvd.\, Beachwood\, 44122\, United States
CATEGORIES:Rehearsal
ORGANIZER;CN="TKO":MAILTO:moss@mossstanley.com
END:VEVENT
BEGIN:VEVENT
DTSTART;TZID=America/New_York:20231001T130000
DTEND;TZID=America/New_York:20231001T143000
DTSTAMP:20260424T094239
CREATED:20230808T213417Z
LAST-MODIFIED:20230912T144450Z
UID:5112-1696165200-1696170600@clevelandtko.com
SUMMARY:TKO Rehearsal
DESCRIPTION:TKO will be rehearsing at The Temple-Tifereth Israel\, 26000 Shaker Blvd\, Beachwood\, OH 44122 in preparation for the October 26 concert at the Beachwood Elder Class at Beachwood High School
URL:https://clevelandtko.com/event/tko-rehearsal-2/
LOCATION:The Temple-Tifereth Israel\, 26000 Shaker Blvd.\, Beachwood\, 44122\, United States
CATEGORIES:Rehearsal
ORGANIZER;CN="TKO":MAILTO:moss@mossstanley.com
END:VEVENT
END:VCALENDAR