BEGIN:VCALENDAR
VERSION:2.0
PRODID:-//Norman Tischler Klezmer Orchestra - ECPv6.15.11//NONSGML v1.0//EN
CALSCALE:GREGORIAN
METHOD:PUBLISH
X-ORIGINAL-URL:https://clevelandtko.com
X-WR-CALDESC:Events for Norman Tischler Klezmer Orchestra
REFRESH-INTERVAL;VALUE=DURATION:PT1H
X-Robots-Tag:noindex
X-PUBLISHED-TTL:PT1H
BEGIN:VTIMEZONE
TZID:America/New_York
BEGIN:DAYLIGHT
TZOFFSETFROM:-0500
TZOFFSETTO:-0400
TZNAME:EDT
DTSTART:20240310T070000
END:DAYLIGHT
BEGIN:STANDARD
TZOFFSETFROM:-0400
TZOFFSETTO:-0500
TZNAME:EST
DTSTART:20241103T060000
END:STANDARD
BEGIN:DAYLIGHT
TZOFFSETFROM:-0500
TZOFFSETTO:-0400
TZNAME:EDT
DTSTART:20250309T070000
END:DAYLIGHT
BEGIN:STANDARD
TZOFFSETFROM:-0400
TZOFFSETTO:-0500
TZNAME:EST
DTSTART:20251102T060000
END:STANDARD
BEGIN:DAYLIGHT
TZOFFSETFROM:-0500
TZOFFSETTO:-0400
TZNAME:EDT
DTSTART:20260308T070000
END:DAYLIGHT
BEGIN:STANDARD
TZOFFSETFROM:-0400
TZOFFSETTO:-0500
TZNAME:EST
DTSTART:20261101T060000
END:STANDARD
END:VTIMEZONE
BEGIN:VEVENT
DTSTART;TZID=America/New_York:20250814T120000
DTEND;TZID=America/New_York:20250814T130000
DTSTAMP:20260421T021142
CREATED:20250716T181318Z
LAST-MODIFIED:20250720T200250Z
UID:5605-1755172800-1755176400@clevelandtko.com
SUMMARY:TKO Performance at Jewish Federation of Cleveland
DESCRIPTION:
URL:https://clevelandtko.com/event/luncheon-performance-jewish-federation-of-cleveland-address-is-25701-science-park-drive-noon-1-00pm/
LOCATION:Jewish Federation of Cleveland\, 25701 Science Park Drive\, Beachwood\, OH\, 44122\, United States
CATEGORIES:Performance
END:VEVENT
END:VCALENDAR