BEGIN:VCALENDAR
VERSION:2.0
PRODID:-//Norman Tischler Klezmer Orchestra - ECPv6.15.11//NONSGML v1.0//EN
CALSCALE:GREGORIAN
METHOD:PUBLISH
X-ORIGINAL-URL:https://clevelandtko.com
X-WR-CALDESC:Events for Norman Tischler Klezmer Orchestra
REFRESH-INTERVAL;VALUE=DURATION:PT1H
X-Robots-Tag:noindex
X-PUBLISHED-TTL:PT1H
BEGIN:VTIMEZONE
TZID:America/New_York
BEGIN:DAYLIGHT
TZOFFSETFROM:-0500
TZOFFSETTO:-0400
TZNAME:EDT
DTSTART:20240310T070000
END:DAYLIGHT
BEGIN:STANDARD
TZOFFSETFROM:-0400
TZOFFSETTO:-0500
TZNAME:EST
DTSTART:20241103T060000
END:STANDARD
BEGIN:DAYLIGHT
TZOFFSETFROM:-0500
TZOFFSETTO:-0400
TZNAME:EDT
DTSTART:20250309T070000
END:DAYLIGHT
BEGIN:STANDARD
TZOFFSETFROM:-0400
TZOFFSETTO:-0500
TZNAME:EST
DTSTART:20251102T060000
END:STANDARD
BEGIN:DAYLIGHT
TZOFFSETFROM:-0500
TZOFFSETTO:-0400
TZNAME:EDT
DTSTART:20260308T070000
END:DAYLIGHT
BEGIN:STANDARD
TZOFFSETFROM:-0400
TZOFFSETTO:-0500
TZNAME:EST
DTSTART:20261101T060000
END:STANDARD
END:VTIMEZONE
BEGIN:VEVENT
DTSTART;TZID=America/New_York:20250608T140000
DTEND;TZID=America/New_York:20250608T160000
DTSTAMP:20260421T055116
CREATED:20250311T192525Z
LAST-MODIFIED:20250608T130932Z
UID:5502-1749391200-1749398400@clevelandtko.com
SUMMARY:CANCELLED due to Rain TKO Performance at Cleveland Heights backyard
DESCRIPTION:
URL:https://clevelandtko.com/event/tko-performance-at-cleveland-heights-backyard/
LOCATION:Cleveland Heights Backyard\, 2440 Edgehill Road\, Cleveland Heights\, OH\, 44106\, United States
CATEGORIES:Performance
END:VEVENT
END:VCALENDAR