BEGIN:VCALENDAR
VERSION:2.0
PRODID:-//Norman Tischler Klezmer Orchestra - ECPv6.15.11//NONSGML v1.0//EN
CALSCALE:GREGORIAN
METHOD:PUBLISH
X-WR-CALNAME:Norman Tischler Klezmer Orchestra
X-ORIGINAL-URL:https://clevelandtko.com
X-WR-CALDESC:Events for Norman Tischler Klezmer Orchestra
REFRESH-INTERVAL;VALUE=DURATION:PT1H
X-Robots-Tag:noindex
X-PUBLISHED-TTL:PT1H
BEGIN:VTIMEZONE
TZID:America/New_York
BEGIN:DAYLIGHT
TZOFFSETFROM:-0500
TZOFFSETTO:-0400
TZNAME:EDT
DTSTART:20240310T070000
END:DAYLIGHT
BEGIN:STANDARD
TZOFFSETFROM:-0400
TZOFFSETTO:-0500
TZNAME:EST
DTSTART:20241103T060000
END:STANDARD
BEGIN:DAYLIGHT
TZOFFSETFROM:-0500
TZOFFSETTO:-0400
TZNAME:EDT
DTSTART:20250309T070000
END:DAYLIGHT
BEGIN:STANDARD
TZOFFSETFROM:-0400
TZOFFSETTO:-0500
TZNAME:EST
DTSTART:20251102T060000
END:STANDARD
BEGIN:DAYLIGHT
TZOFFSETFROM:-0500
TZOFFSETTO:-0400
TZNAME:EDT
DTSTART:20260308T070000
END:DAYLIGHT
BEGIN:STANDARD
TZOFFSETFROM:-0400
TZOFFSETTO:-0500
TZNAME:EST
DTSTART:20261101T060000
END:STANDARD
END:VTIMEZONE
BEGIN:VEVENT
DTSTART;TZID=America/New_York:20250403T120000
DTEND;TZID=America/New_York:20250403T130000
DTSTAMP:20260421T083735
CREATED:20241221T212247Z
LAST-MODIFIED:20250401T143654Z
UID:5431-1743681600-1743685200@clevelandtko.com
SUMMARY:CANCELLED due to a funeral at the same time. TKO Performance (private event sponsored by JFSA) at Suburban Temple Kol Ami
DESCRIPTION:
URL:https://clevelandtko.com/event/tko-performance-private-location-to-be-announced-2/
LOCATION:Suburban Temple Kol Ami\, 22401 Chagrin Boulevard\, Beachwood\, OH\, 44122\, United States
CATEGORIES:Performance
END:VEVENT
END:VCALENDAR