BEGIN:VCALENDAR
VERSION:2.0
PRODID:-//Norman Tischler Klezmer Orchestra - ECPv6.15.11//NONSGML v1.0//EN
CALSCALE:GREGORIAN
METHOD:PUBLISH
X-ORIGINAL-URL:https://clevelandtko.com
X-WR-CALDESC:Events for Norman Tischler Klezmer Orchestra
REFRESH-INTERVAL;VALUE=DURATION:PT1H
X-Robots-Tag:noindex
X-PUBLISHED-TTL:PT1H
BEGIN:VTIMEZONE
TZID:America/New_York
BEGIN:DAYLIGHT
TZOFFSETFROM:-0500
TZOFFSETTO:-0400
TZNAME:EDT
DTSTART:20240310T070000
END:DAYLIGHT
BEGIN:STANDARD
TZOFFSETFROM:-0400
TZOFFSETTO:-0500
TZNAME:EST
DTSTART:20241103T060000
END:STANDARD
BEGIN:DAYLIGHT
TZOFFSETFROM:-0500
TZOFFSETTO:-0400
TZNAME:EDT
DTSTART:20250309T070000
END:DAYLIGHT
BEGIN:STANDARD
TZOFFSETFROM:-0400
TZOFFSETTO:-0500
TZNAME:EST
DTSTART:20251102T060000
END:STANDARD
BEGIN:DAYLIGHT
TZOFFSETFROM:-0500
TZOFFSETTO:-0400
TZNAME:EDT
DTSTART:20260308T070000
END:DAYLIGHT
BEGIN:STANDARD
TZOFFSETFROM:-0400
TZOFFSETTO:-0500
TZNAME:EST
DTSTART:20261101T060000
END:STANDARD
END:VTIMEZONE
BEGIN:VEVENT
DTSTART;TZID=America/New_York:20250803T140000
DTEND;TZID=America/New_York:20250803T160000
DTSTAMP:20260421T001356
CREATED:20250718T123357Z
LAST-MODIFIED:20250720T195837Z
UID:5608-1754229600-1754236800@clevelandtko.com
SUMMARY:TKO Performance with Bent String at Cleveland Heights backyard
DESCRIPTION:
URL:https://clevelandtko.com/event/performance-with-bent-string-2432-edgehill-rd-cleve-hts-oh-44106-ted-and-susans-yard-concert/
LOCATION:2440 Edgehill Rd. Cleveland Heights\, 2432 Edgehill Rd.\, Cleveland Heights\, OH\, 44106\, United States
CATEGORIES:Performance
END:VEVENT
BEGIN:VEVENT
DTSTART;TZID=America/New_York:20250805T190000
DTEND;TZID=America/New_York:20250805T200000
DTSTAMP:20260421T001356
CREATED:20250225T195323Z
LAST-MODIFIED:20250226T162919Z
UID:5475-1754420400-1754424000@clevelandtko.com
SUMMARY:TKO Performance at Medina County District Library - Highland
DESCRIPTION:
URL:https://clevelandtko.com/event/performance-medina-county-district-library-4160-ridge-road-medina-oh-44256/
LOCATION:Medina County District Library – Highland\, 4160 Ridge Road\, Medina\, OH\, 44256\, United States
CATEGORIES:Performance
END:VEVENT
BEGIN:VEVENT
DTSTART;TZID=America/New_York:20250810T140000
DTEND;TZID=America/New_York:20250810T160000
DTSTAMP:20260421T001356
CREATED:20250618T211455Z
LAST-MODIFIED:20250720T200008Z
UID:5574-1754834400-1754841600@clevelandtko.com
SUMMARY:TKO Performance at Congregation Mishkan Or's Garden Party
DESCRIPTION:
URL:https://clevelandtko.com/event/tko-performance-at-congregation-mishkan-or/
LOCATION:Congregation Mishkan Or\, 26000 Shaker Blvd\, Beachwood\, OH\, 44122\, United States
CATEGORIES:Performance
END:VEVENT
BEGIN:VEVENT
DTSTART;TZID=America/New_York:20250814T120000
DTEND;TZID=America/New_York:20250814T130000
DTSTAMP:20260421T001356
CREATED:20250716T181318Z
LAST-MODIFIED:20250720T200250Z
UID:5605-1755172800-1755176400@clevelandtko.com
SUMMARY:TKO Performance at Jewish Federation of Cleveland
DESCRIPTION:
URL:https://clevelandtko.com/event/luncheon-performance-jewish-federation-of-cleveland-address-is-25701-science-park-drive-noon-1-00pm/
LOCATION:Jewish Federation of Cleveland\, 25701 Science Park Drive\, Beachwood\, OH\, 44122\, United States
CATEGORIES:Performance
END:VEVENT
END:VCALENDAR